BEGIN:VCALENDAR
VERSION:2.0
PRODID:-//Refuge Baptist Church - ECPv6.15.20//NONSGML v1.0//EN
CALSCALE:GREGORIAN
METHOD:PUBLISH
X-WR-CALNAME:Refuge Baptist Church
X-ORIGINAL-URL:https://refugebaptistchurchnc.com
X-WR-CALDESC:Events for Refuge Baptist Church
REFRESH-INTERVAL;VALUE=DURATION:PT1H
X-Robots-Tag:noindex
X-PUBLISHED-TTL:PT1H
BEGIN:VTIMEZONE
TZID:America/New_York
BEGIN:DAYLIGHT
TZOFFSETFROM:-0500
TZOFFSETTO:-0400
TZNAME:EDT
DTSTART:20250309T070000
END:DAYLIGHT
BEGIN:STANDARD
TZOFFSETFROM:-0400
TZOFFSETTO:-0500
TZNAME:EST
DTSTART:20251102T060000
END:STANDARD
BEGIN:DAYLIGHT
TZOFFSETFROM:-0500
TZOFFSETTO:-0400
TZNAME:EDT
DTSTART:20260308T070000
END:DAYLIGHT
BEGIN:STANDARD
TZOFFSETFROM:-0400
TZOFFSETTO:-0500
TZNAME:EST
DTSTART:20261101T060000
END:STANDARD
BEGIN:DAYLIGHT
TZOFFSETFROM:-0500
TZOFFSETTO:-0400
TZNAME:EDT
DTSTART:20270314T070000
END:DAYLIGHT
BEGIN:STANDARD
TZOFFSETFROM:-0400
TZOFFSETTO:-0500
TZNAME:EST
DTSTART:20271107T060000
END:STANDARD
END:VTIMEZONE
BEGIN:VEVENT
DTSTART;TZID=America/New_York:20260420T120000
DTEND;TZID=America/New_York:20260420T140000
DTSTAMP:20260420T090117
CREATED:20250221T165229Z
LAST-MODIFIED:20260407T124155Z
UID:280-1776686400-1776693600@refugebaptistchurchnc.com
SUMMARY:J.O.Y. Ladies Lunch Bunch
DESCRIPTION:Join Us Monday\, April 20th at 12pm for Food\, Fun\, and Fellowship in the Family Life Center! \nAll Ladies Welcome! \nWe can’t wait to see you there! \n 
URL:https://refugebaptistchurchnc.com/calendarevent/j-o-y-ladies-lunch-bunch/
LOCATION:Refuge Baptist Family Life Center
END:VEVENT
BEGIN:VEVENT
DTSTART;TZID=America/New_York:20260422T183000
DTEND;TZID=America/New_York:20260422T193000
DTSTAMP:20260420T090117
CREATED:20260311T155103Z
LAST-MODIFIED:20260416T145717Z
UID:1224-1776882600-1776886200@refugebaptistchurchnc.com
SUMMARY:Special Prayer Meeting- Revival
DESCRIPTION:Special Prayer Meeting for Revival\nApril 22nd at 6:30pm\nin the Family Life Center\nCome together as we pray for God’s guidance in preparation for our upcoming \nRevival on April 27th-29th
URL:https://refugebaptistchurchnc.com/calendarevent/special-prayer-meeting-revival/
LOCATION:Refuge Baptist Family Life Center
END:VEVENT
BEGIN:VEVENT
DTSTART;TZID=America/New_York:20260427T000000
DTEND;TZID=America/New_York:20260429T235959
DTSTAMP:20260420T090117
CREATED:20260319T125523Z
LAST-MODIFIED:20260331T122900Z
UID:1248-1777248000-1777507199@refugebaptistchurchnc.com
SUMMARY:Revival
DESCRIPTION:Join us for a REVIVAL!\nApril 27th ~ 29th\n6:30 pm
URL:https://refugebaptistchurchnc.com/calendarevent/revival/
LOCATION:Refuge Baptist Church\, 27 Oleta Road\, Hendersonville\, NC\, 28792\, United States
END:VEVENT
END:VCALENDAR